BEGIN:VCALENDAR
VERSION:2.0
PRODID:-//wp-events-plugin.com//7.2.3.1//EN
TZID:Europe/Berlin
X-WR-TIMEZONE:Europe/Berlin
BEGIN:VEVENT
UID:2@sonsoftheblackcounty.de
DTSTART;TZID=Europe/Berlin:20241213T200000
DTEND;TZID=Europe/Berlin:20241213T235900
DTSTAMP:20241204T164355Z
URL:https://sonsoftheblackcounty.de/events/sobtc-bei-der-open-stage/
SUMMARY:SOBTC bei der Open Stage
DESCRIPTION:Die letzte Open Stage des Jahres im Rock Café Q steht an.\nDie
 ses Mal mit vielen Weihnachts-Specials.\nWir werden einen Slot belegen und
  die Bühne rocken. Seid dabei!!\n\nDer Eintritt ist wie immer frei!
ATTACH;FMTTYPE=image/jpeg:https://sonsoftheblackcounty.de/wp-content/uploa
 ds/2024/12/openstage.jpg
CATEGORIES:Live 2024
LOCATION:Rock Café Q - Open Stage\, Friedhofstr\, 2a\, Castrop-Rauxel\, NR
 W\, 44581\, Deutschland
X-APPLE-STRUCTURED-LOCATION;VALUE=URI;X-ADDRESS=Friedhofstr\, 2a\, Castrop-
 Rauxel\, NRW\, 44581\, Deutschland;X-APPLE-RADIUS=100;X-TITLE=Rock Café Q
  - Open Stage:geo:0,0
END:VEVENT
BEGIN:VTIMEZONE
TZID:Europe/Berlin
X-LIC-LOCATION:Europe/Berlin
BEGIN:STANDARD
DTSTART:20241027T020000
TZOFFSETFROM:+0200
TZOFFSETTO:+0100
TZNAME:CET
END:STANDARD
END:VTIMEZONE
END:VCALENDAR