BEGIN:VCALENDAR
VERSION:2.0
PRODID:-//wp-events-plugin.com//7.2.3.1//EN
TZID:Europe/Berlin
X-WR-TIMEZONE:Europe/Berlin
BEGIN:VEVENT
UID:3@sonsoftheblackcounty.de
DTSTART;TZID=Europe/Berlin:20250411T190000
DTEND;TZID=Europe/Berlin:20250411T233000
DTSTAMP:20250410T075440Z
URL:https://sonsoftheblackcounty.de/events/live-bei-der-open-stage/
SUMMARY:Live bei der Open Stage
DESCRIPTION:Freitag 11.04.2025\nRock Café Q\nEinlass ab 19:00 Uhr\nStart: 
 ca. 19:30 Uhr\nOpener "Nachtkind"\n\nweitere Infos auf Facebook\n\nWir bel
 egen einen späteren Slot und werden mit 3 unserer Songs die Bühne rocken
 .
ATTACH;FMTTYPE=image/jpeg:https://sonsoftheblackcounty.de/wp-content/uploa
 ds/2024/12/openstage.jpg
CATEGORIES:Live 2025
LOCATION:Rock Café Q - Open Stage\, Friedhofstr\, 2a\, Castrop-Rauxel\, NR
 W\, 44581\, Deutschland
X-APPLE-STRUCTURED-LOCATION;VALUE=URI;X-ADDRESS=Friedhofstr\, 2a\, Castrop-
 Rauxel\, NRW\, 44581\, Deutschland;X-APPLE-RADIUS=100;X-TITLE=Rock Café Q
  - Open Stage:geo:0,0
END:VEVENT
BEGIN:VTIMEZONE
TZID:Europe/Berlin
X-LIC-LOCATION:Europe/Berlin
BEGIN:DAYLIGHT
DTSTART:20250330T030000
TZOFFSETFROM:+0100
TZOFFSETTO:+0200
TZNAME:CEST
END:DAYLIGHT
END:VTIMEZONE
END:VCALENDAR