BEGIN:VCALENDAR
VERSION:2.0
PRODID:-//wp-events-plugin.com//7.2.3.1//EN
TZID:Europe/Berlin
X-WR-TIMEZONE:Europe/Berlin
BEGIN:VEVENT
UID:4@sonsoftheblackcounty.de
DTSTART;TZID=Europe/Berlin:20251219T193000
DTEND;TZID=Europe/Berlin:20251219T234500
DTSTAMP:20251215T133410Z
URL:https://sonsoftheblackcounty.de/events/live-bei-der-open-stage-des-roc
 k-cafe-q/
SUMMARY:Live bei der Open Stage des Rock Café Q
DESCRIPTION:Am Freitag\, 19.12.2025\, sind wir wieder mal bei Open Stage de
 s Rock Café Q.\nLive und in Farbe!\nWir werden nach dem Opener einen Slot
  belegen und die Bühne rocken.\nSeid dabei!!
ATTACH;FMTTYPE=image/jpeg:https://sonsoftheblackcounty.de/wp-content/uploa
 ds/2024/12/openstage.jpg
CATEGORIES:Live 2025
LOCATION:Rock Café Q - Open Stage\, Friedhofstr\, 2a\, Castrop-Rauxel\, NR
 W\, 44581\, Deutschland
X-APPLE-STRUCTURED-LOCATION;VALUE=URI;X-ADDRESS=Friedhofstr\, 2a\, Castrop-
 Rauxel\, NRW\, 44581\, Deutschland;X-APPLE-RADIUS=100;X-TITLE=Rock Café Q
  - Open Stage:geo:0,0
END:VEVENT
BEGIN:VTIMEZONE
TZID:Europe/Berlin
X-LIC-LOCATION:Europe/Berlin
BEGIN:STANDARD
DTSTART:20251026T020000
TZOFFSETFROM:+0200
TZOFFSETTO:+0100
TZNAME:CET
END:STANDARD
END:VTIMEZONE
END:VCALENDAR